BEGIN:VCALENDAR
VERSION:2.0
PRODID:-//Karate Kintsugi - ECPv5.16.4//NONSGML v1.0//EN
CALSCALE:GREGORIAN
METHOD:PUBLISH
X-ORIGINAL-URL:https://karatekintsugi.es
X-WR-CALDESC:Eventos para Karate Kintsugi
REFRESH-INTERVAL;VALUE=DURATION:PT1H
X-Robots-Tag:noindex
X-PUBLISHED-TTL:PT1H
BEGIN:VTIMEZONE
TZID:UTC
BEGIN:STANDARD
TZOFFSETFROM:+0000
TZOFFSETTO:+0000
TZNAME:UTC
DTSTART:20250101T000000
END:STANDARD
END:VTIMEZONE
BEGIN:VEVENT
DTSTART;VALUE=DATE:20250919
DTEND;VALUE=DATE:20250922
DTSTAMP:20260420T232918
CREATED:20250917T182128Z
LAST-MODIFIED:20250917T182254Z
UID:4725-1758240000-1758499199@karatekintsugi.es
SUMMARY:Mundial WKSA 2025 Cadiz-España
DESCRIPTION:
URL:https://karatekintsugi.es/evento/mundial-wksa-2025-cadiz-espana/
ATTACH;FMTTYPE=image/jpeg:https://karatekintsugi.es/wp-content/uploads/2025/09/Screenshot_20250820_182328_Facebook.jpg
END:VEVENT
END:VCALENDAR