BEGIN:VCALENDAR
VERSION:2.0
PRODID:-//Karate Kintsugi - ECPv5.16.4//NONSGML v1.0//EN
CALSCALE:GREGORIAN
METHOD:PUBLISH
X-WR-CALNAME:Karate Kintsugi
X-ORIGINAL-URL:https://karatekintsugi.es
X-WR-CALDESC:Eventos para Karate Kintsugi
REFRESH-INTERVAL;VALUE=DURATION:PT1H
X-Robots-Tag:noindex
X-PUBLISHED-TTL:PT1H
BEGIN:VTIMEZONE
TZID:UTC
BEGIN:STANDARD
TZOFFSETFROM:+0000
TZOFFSETTO:+0000
TZNAME:UTC
DTSTART:20220101T000000
END:STANDARD
END:VTIMEZONE
BEGIN:VEVENT
DTSTART;TZID=UTC:20221119T100000
DTEND;TZID=UTC:20221119T130000
DTSTAMP:20260422T101021
CREATED:20221117T102510Z
LAST-MODIFIED:20221117T102510Z
UID:2578-1668852000-1668862800@karatekintsugi.es
SUMMARY:SEMINARIO CLUB DE KARATE CANALS | MARCELIANO GÓMEZ 8ºDAN
DESCRIPTION:
URL:https://karatekintsugi.es/evento/seminario-club-de-karate-canals-marceliano-gomez-8odan/
LOCATION:PABELLÓN RICARDO TORMO\, Calle Maestro José Serrano\, s/n\, Canals\, Valencia\, 46650\, España
ATTACH;FMTTYPE=image/jpeg:https://karatekintsugi.es/wp-content/uploads/2022/11/WhatsApp-Image-2022-11-12-at-23.39.53.jpeg
END:VEVENT
END:VCALENDAR