BEGIN:VCALENDAR
VERSION:2.0
PRODID:-//Karate Kintsugi - ECPv5.16.4//NONSGML v1.0//EN
CALSCALE:GREGORIAN
METHOD:PUBLISH
X-WR-CALNAME:Karate Kintsugi
X-ORIGINAL-URL:https://karatekintsugi.es
X-WR-CALDESC:Eventos para Karate Kintsugi
REFRESH-INTERVAL;VALUE=DURATION:PT1H
X-Robots-Tag:noindex
X-PUBLISHED-TTL:PT1H
BEGIN:VTIMEZONE
TZID:UTC
BEGIN:STANDARD
TZOFFSETFROM:+0000
TZOFFSETTO:+0000
TZNAME:UTC
DTSTART:20220101T000000
END:STANDARD
END:VTIMEZONE
BEGIN:VEVENT
DTSTART;TZID=UTC:20221015T100000
DTEND;TZID=UTC:20221015T140000
DTSTAMP:20260422T113852
CREATED:20220916T083709Z
LAST-MODIFIED:20220916T083758Z
UID:2461-1665828000-1665842400@karatekintsugi.es
SUMMARY:III CURSO TÉCNICO NACIONAL KARATE-DO A.E.K.A.
DESCRIPTION:  \n \n 
URL:https://karatekintsugi.es/evento/iii-curso-tecnico-nacional-karate-do-a-e-k-a/
LOCATION:CENTRO DE TECNIFICACIÓN DEPORTIVA DE ALICANTE\, C. Foguerer Jose Ramón Gilabert Davó\, s/n\, Alicante\, Valencia\, 03005\, España
ATTACH;FMTTYPE=image/jpeg:https://karatekintsugi.es/wp-content/uploads/2022/09/WhatsApp-Image-2022-09-14-at-23.23.30.jpeg
END:VEVENT
END:VCALENDAR