BEGIN:VCALENDAR
VERSION:2.0
PRODID:-//Karate Kintsugi - ECPv5.16.4//NONSGML v1.0//EN
CALSCALE:GREGORIAN
METHOD:PUBLISH
X-WR-CALNAME:Karate Kintsugi
X-ORIGINAL-URL:https://karatekintsugi.es
X-WR-CALDESC:Eventos para Karate Kintsugi
REFRESH-INTERVAL;VALUE=DURATION:PT1H
X-Robots-Tag:noindex
X-PUBLISHED-TTL:PT1H
BEGIN:VTIMEZONE
TZID:UTC
BEGIN:STANDARD
TZOFFSETFROM:+0000
TZOFFSETTO:+0000
TZNAME:UTC
DTSTART:20240101T000000
END:STANDARD
END:VTIMEZONE
BEGIN:VEVENT
DTSTART;TZID=UTC:20241207T100000
DTEND;TZID=UTC:20241207T130000
DTSTAMP:20260421T055626
CREATED:20241203T114924Z
LAST-MODIFIED:20241203T114924Z
UID:3888-1733565600-1733576400@karatekintsugi.es
SUMMARY:Clase solidaria a favor de los damnificados de la Dana
DESCRIPTION:
URL:https://karatekintsugi.es/evento/clase-solidaria-a-favor-de-los-damnificados-de-la-dana/
ATTACH;FMTTYPE=image/jpeg:https://karatekintsugi.es/wp-content/uploads/2024/12/IMG-20241203-WA0003-1.jpg
END:VEVENT
END:VCALENDAR