BEGIN:VCALENDAR
VERSION:2.0
PRODID:-//Karate Kintsugi - ECPv5.16.4//NONSGML v1.0//EN
CALSCALE:GREGORIAN
METHOD:PUBLISH
X-ORIGINAL-URL:https://karatekintsugi.es
X-WR-CALDESC:Eventos para Karate Kintsugi
REFRESH-INTERVAL;VALUE=DURATION:PT1H
X-Robots-Tag:noindex
X-PUBLISHED-TTL:PT1H
BEGIN:VTIMEZONE
TZID:UTC
BEGIN:STANDARD
TZOFFSETFROM:+0000
TZOFFSETTO:+0000
TZNAME:UTC
DTSTART:20250101T000000
END:STANDARD
END:VTIMEZONE
BEGIN:VEVENT
DTSTART;TZID=UTC:20250412T080000
DTEND;TZID=UTC:20250413T170000
DTSTAMP:20260417T143222
CREATED:20250406T211755Z
LAST-MODIFIED:20250406T211755Z
UID:4309-1744444800-1744563600@karatekintsugi.es
SUMMARY:Campeonato de España infantil 2025
DESCRIPTION:
URL:https://karatekintsugi.es/evento/campeonato-de-espana-infantil-2025/
ATTACH;FMTTYPE=image/jpeg:https://karatekintsugi.es/wp-content/uploads/2025/04/FB_IMG_1743966770108.jpg
END:VEVENT
END:VCALENDAR