BEGIN:VCALENDAR
VERSION:2.0
PRODID:-//Karate Kintsugi - ECPv5.16.4//NONSGML v1.0//EN
CALSCALE:GREGORIAN
METHOD:PUBLISH
X-ORIGINAL-URL:https://karatekintsugi.es
X-WR-CALDESC:Eventos para Karate Kintsugi
REFRESH-INTERVAL;VALUE=DURATION:PT1H
X-Robots-Tag:noindex
X-PUBLISHED-TTL:PT1H
BEGIN:VTIMEZONE
TZID:UTC
BEGIN:STANDARD
TZOFFSETFROM:+0000
TZOFFSETTO:+0000
TZNAME:UTC
DTSTART:20250101T000000
END:STANDARD
END:VTIMEZONE
BEGIN:VEVENT
DTSTART;TZID=UTC:20250329T080000
DTEND;TZID=UTC:20250330T170000
DTSTAMP:20260418T232924
CREATED:20250224T112427Z
LAST-MODIFIED:20250224T112427Z
UID:4166-1743235200-1743354000@karatekintsugi.es
SUMMARY:XX Campeonato Nacional de Clubes Karate Tradicional- IAKU España
DESCRIPTION:
URL:https://karatekintsugi.es/evento/xx-campeonato-nacional-de-clubes-karate-tradicional-iaku-espana/
ATTACH;FMTTYPE=image/jpeg:https://karatekintsugi.es/wp-content/uploads/2025/02/IMG-20250221-WA0004.jpg
END:VEVENT
END:VCALENDAR