BEGIN:VCALENDAR
VERSION:2.0
PRODID:-//Karate Kintsugi - ECPv5.16.4//NONSGML v1.0//EN
CALSCALE:GREGORIAN
METHOD:PUBLISH
X-ORIGINAL-URL:https://karatekintsugi.es
X-WR-CALDESC:Eventos para Karate Kintsugi
REFRESH-INTERVAL;VALUE=DURATION:PT1H
X-Robots-Tag:noindex
X-PUBLISHED-TTL:PT1H
BEGIN:VTIMEZONE
TZID:UTC
BEGIN:STANDARD
TZOFFSETFROM:+0000
TZOFFSETTO:+0000
TZNAME:UTC
DTSTART:20250101T000000
END:STANDARD
END:VTIMEZONE
BEGIN:VEVENT
DTSTART;TZID=UTC:20250301T080000
DTEND;TZID=UTC:20250302T170000
DTSTAMP:20260423T172420
CREATED:20250224T111754Z
LAST-MODIFIED:20250224T111803Z
UID:4162-1740816000-1740934800@karatekintsugi.es
SUMMARY:LNK J-3 La Nucia(Alicante)
DESCRIPTION:
URL:https://karatekintsugi.es/evento/lnk-j-3-la-nuciaalicante/
ATTACH;FMTTYPE=image/jpeg:https://karatekintsugi.es/wp-content/uploads/2025/02/FB_IMG_1740393434396.jpg
END:VEVENT
BEGIN:VEVENT
DTSTART;TZID=UTC:20250315T153000
DTEND;TZID=UTC:20250315T190000
DTSTAMP:20260423T172420
CREATED:20250224T112107Z
LAST-MODIFIED:20250224T112113Z
UID:4164-1742052600-1742065200@karatekintsugi.es
SUMMARY:III Copa Nacional JKA España
DESCRIPTION:
URL:https://karatekintsugi.es/evento/iii-copa-nacional-jka-espana/
ATTACH;FMTTYPE=image/jpeg:https://karatekintsugi.es/wp-content/uploads/2025/02/FB_IMG_1740058028985.jpg
END:VEVENT
BEGIN:VEVENT
DTSTART;TZID=UTC:20250322T100000
DTEND;TZID=UTC:20250322T113000
DTSTAMP:20260423T172420
CREATED:20250321T210136Z
LAST-MODIFIED:20250321T210136Z
UID:4244-1742637600-1742643000@karatekintsugi.es
SUMMARY:Curso de karate Marce Gómez y José Baeza AEKA
DESCRIPTION:
URL:https://karatekintsugi.es/evento/curso-de-karate-marce-gomez-y-jose-baeza-aeka/
ATTACH;FMTTYPE=image/jpeg:https://karatekintsugi.es/wp-content/uploads/2025/03/Imagen-de-WhatsApp-2025-03-13-a-las-11.03.37_66ff1186.jpg
END:VEVENT
BEGIN:VEVENT
DTSTART;TZID=UTC:20250329T080000
DTEND;TZID=UTC:20250330T170000
DTSTAMP:20260423T172420
CREATED:20250224T112427Z
LAST-MODIFIED:20250224T112427Z
UID:4166-1743235200-1743354000@karatekintsugi.es
SUMMARY:XX Campeonato Nacional de Clubes Karate Tradicional- IAKU España
DESCRIPTION:
URL:https://karatekintsugi.es/evento/xx-campeonato-nacional-de-clubes-karate-tradicional-iaku-espana/
ATTACH;FMTTYPE=image/jpeg:https://karatekintsugi.es/wp-content/uploads/2025/02/IMG-20250221-WA0004.jpg
END:VEVENT
END:VCALENDAR