BEGIN:VCALENDAR
VERSION:2.0
PRODID:-//Karate Kintsugi - ECPv5.16.4//NONSGML v1.0//EN
CALSCALE:GREGORIAN
METHOD:PUBLISH
X-ORIGINAL-URL:https://karatekintsugi.es
X-WR-CALDESC:Eventos para Karate Kintsugi
REFRESH-INTERVAL;VALUE=DURATION:PT1H
X-Robots-Tag:noindex
X-PUBLISHED-TTL:PT1H
BEGIN:VTIMEZONE
TZID:UTC
BEGIN:STANDARD
TZOFFSETFROM:+0000
TZOFFSETTO:+0000
TZNAME:UTC
DTSTART:20230101T000000
END:STANDARD
END:VTIMEZONE
BEGIN:VEVENT
DTSTART;TZID=UTC:20230528T113000
DTEND;TZID=UTC:20230528T130000
DTSTAMP:20260422T013426
CREATED:20230515T213134Z
LAST-MODIFIED:20230520T083044Z
UID:2986-1685273400-1685278800@karatekintsugi.es
SUMMARY:TALLER DE DEFENSA PERSONAL FEMENINA
DESCRIPTION:
URL:https://karatekintsugi.es/evento/taller-de-defensa-personal-femenina/
LOCATION:Move Dance Studio\, C/ del Músic Gomis\, 28\, Valencia\, Valencia\, 46014\, España
ATTACH;FMTTYPE=image/jpeg:https://karatekintsugi.es/wp-content/uploads/2023/05/WhatsApp-Image-2023-05-12-at-15.18.48.jpeg
ORGANIZER;CN="KARATE%20KINTSUGI%20C.D":MAILTO:kikerokudan.es
END:VEVENT
END:VCALENDAR