BEGIN:VCALENDAR
VERSION:2.0
PRODID:-//Karate Kintsugi - ECPv5.16.4//NONSGML v1.0//EN
CALSCALE:GREGORIAN
METHOD:PUBLISH
X-WR-CALNAME:Karate Kintsugi
X-ORIGINAL-URL:https://karatekintsugi.es
X-WR-CALDESC:Eventos para Karate Kintsugi
REFRESH-INTERVAL;VALUE=DURATION:PT1H
X-Robots-Tag:noindex
X-PUBLISHED-TTL:PT1H
BEGIN:VTIMEZONE
TZID:UTC
BEGIN:STANDARD
TZOFFSETFROM:+0000
TZOFFSETTO:+0000
TZNAME:UTC
DTSTART:20240101T000000
END:STANDARD
END:VTIMEZONE
BEGIN:VEVENT
DTSTART;TZID=UTC:20240702T183000
DTEND;TZID=UTC:20240730T210000
DTSTAMP:20260422T225942
CREATED:20240624T103906Z
LAST-MODIFIED:20240624T103906Z
UID:3649-1719945000-1722373200@karatekintsugi.es
SUMMARY:Curso verano 24
DESCRIPTION:
URL:https://karatekintsugi.es/evento/curso-verano-24/
ATTACH;FMTTYPE=image/png:https://karatekintsugi.es/wp-content/uploads/2024/06/cartel-curso-verano.png
END:VEVENT
END:VCALENDAR